BEGIN:VCALENDAR
VERSION:2.0
PRODID:-//Ons Zwemuurtje - ECPv6.9.0//NONSGML v1.0//EN
CALSCALE:GREGORIAN
METHOD:PUBLISH
X-ORIGINAL-URL:https://onszwemuurtje.nl
X-WR-CALDESC:Evenementen voor Ons Zwemuurtje
REFRESH-INTERVAL;VALUE=DURATION:PT1H
X-Robots-Tag:noindex
X-PUBLISHED-TTL:PT1H
BEGIN:VTIMEZONE
TZID:Europe/Paris
BEGIN:DAYLIGHT
TZOFFSETFROM:+0100
TZOFFSETTO:+0200
TZNAME:CEST
DTSTART:20260329T010000
END:DAYLIGHT
BEGIN:STANDARD
TZOFFSETFROM:+0200
TZOFFSETTO:+0100
TZNAME:CET
DTSTART:20261025T010000
END:STANDARD
END:VTIMEZONE
BEGIN:VEVENT
DTSTART;VALUE=DATE:20260606
DTEND;VALUE=DATE:20260607
DTSTAMP:20260419T191326
CREATED:20251010T120506Z
LAST-MODIFIED:20251010T120506Z
UID:950-1780704000-1780790399@onszwemuurtje.nl
SUMMARY:Zwemmen
DESCRIPTION:
URL:https://onszwemuurtje.nl/event/zwemmen-225/
END:VEVENT
BEGIN:VEVENT
DTSTART;VALUE=DATE:20260613
DTEND;VALUE=DATE:20260614
DTSTAMP:20260419T191326
CREATED:20251010T120521Z
LAST-MODIFIED:20251010T120521Z
UID:952-1781308800-1781395199@onszwemuurtje.nl
SUMMARY:Zwemmen
DESCRIPTION:
URL:https://onszwemuurtje.nl/event/zwemmen-226/
END:VEVENT
BEGIN:VEVENT
DTSTART;VALUE=DATE:20260620
DTEND;VALUE=DATE:20260621
DTSTAMP:20260419T191326
CREATED:20251010T120532Z
LAST-MODIFIED:20251010T120532Z
UID:954-1781913600-1781999999@onszwemuurtje.nl
SUMMARY:Zwemmen
DESCRIPTION:
URL:https://onszwemuurtje.nl/event/zwemmen-227/
END:VEVENT
BEGIN:VEVENT
DTSTART;VALUE=DATE:20260627
DTEND;VALUE=DATE:20260628
DTSTAMP:20260419T191326
CREATED:20251010T120546Z
LAST-MODIFIED:20251010T120546Z
UID:956-1782518400-1782604799@onszwemuurtje.nl
SUMMARY:Zwemmen
DESCRIPTION:
URL:https://onszwemuurtje.nl/event/zwemmen-228/
END:VEVENT
END:VCALENDAR