BEGIN:VCALENDAR
VERSION:2.0
PRODID:-//Ons Zwemuurtje - ECPv6.9.0//NONSGML v1.0//EN
CALSCALE:GREGORIAN
METHOD:PUBLISH
X-WR-CALNAME:Ons Zwemuurtje
X-ORIGINAL-URL:https://onszwemuurtje.nl
X-WR-CALDESC:Evenementen voor Ons Zwemuurtje
REFRESH-INTERVAL;VALUE=DURATION:PT1H
X-Robots-Tag:noindex
X-PUBLISHED-TTL:PT1H
BEGIN:VTIMEZONE
TZID:Europe/Paris
BEGIN:DAYLIGHT
TZOFFSETFROM:+0100
TZOFFSETTO:+0200
TZNAME:CEST
DTSTART:20260329T010000
END:DAYLIGHT
BEGIN:STANDARD
TZOFFSETFROM:+0200
TZOFFSETTO:+0100
TZNAME:CET
DTSTART:20261025T010000
END:STANDARD
END:VTIMEZONE
BEGIN:VEVENT
DTSTART;VALUE=DATE:20260307
DTEND;VALUE=DATE:20260308
DTSTAMP:20260419T153956
CREATED:20251010T114355Z
LAST-MODIFIED:20251010T114355Z
UID:927-1772841600-1772927999@onszwemuurtje.nl
SUMMARY:Zwemmen
DESCRIPTION:
URL:https://onszwemuurtje.nl/event/zwemmen-218/
END:VEVENT
BEGIN:VEVENT
DTSTART;VALUE=DATE:20260314
DTEND;VALUE=DATE:20260315
DTSTAMP:20260419T153956
CREATED:20251010T114437Z
LAST-MODIFIED:20251010T114514Z
UID:929-1773446400-1773532799@onszwemuurtje.nl
SUMMARY:Zwemmen Familiedag
DESCRIPTION:
URL:https://onszwemuurtje.nl/event/zwemmen-219/
END:VEVENT
BEGIN:VEVENT
DTSTART;VALUE=DATE:20260321
DTEND;VALUE=DATE:20260329
DTSTAMP:20260419T153956
CREATED:20251010T114459Z
LAST-MODIFIED:20251010T114459Z
UID:931-1774051200-1774742399@onszwemuurtje.nl
SUMMARY:Zwemmen
DESCRIPTION:
URL:https://onszwemuurtje.nl/event/zwemmen-220/
END:VEVENT
BEGIN:VEVENT
DTSTART;VALUE=DATE:20260328
DTEND;VALUE=DATE:20260329
DTSTAMP:20260419T153956
CREATED:20251010T114646Z
LAST-MODIFIED:20251010T114646Z
UID:934-1774656000-1774742399@onszwemuurtje.nl
SUMMARY:Zwemmen
DESCRIPTION:
URL:https://onszwemuurtje.nl/event/zwemmen-221/
END:VEVENT
END:VCALENDAR