BEGIN:VCALENDAR
VERSION:2.0
PRODID:-//Ons Zwemuurtje - ECPv6.9.0//NONSGML v1.0//EN
CALSCALE:GREGORIAN
METHOD:PUBLISH
X-WR-CALNAME:Ons Zwemuurtje
X-ORIGINAL-URL:https://onszwemuurtje.nl
X-WR-CALDESC:Evenementen voor Ons Zwemuurtje
REFRESH-INTERVAL;VALUE=DURATION:PT1H
X-Robots-Tag:noindex
X-PUBLISHED-TTL:PT1H
BEGIN:VTIMEZONE
TZID:Europe/Paris
BEGIN:DAYLIGHT
TZOFFSETFROM:+0100
TZOFFSETTO:+0200
TZNAME:CEST
DTSTART:20250330T010000
END:DAYLIGHT
BEGIN:STANDARD
TZOFFSETFROM:+0200
TZOFFSETTO:+0100
TZNAME:CET
DTSTART:20251026T010000
END:STANDARD
END:VTIMEZONE
BEGIN:VEVENT
DTSTART;VALUE=DATE:20250705
DTEND;VALUE=DATE:20250706
DTSTAMP:20260419T232014
CREATED:20241203T193944Z
LAST-MODIFIED:20241203T193944Z
UID:862-1751673600-1751759999@onszwemuurtje.nl
SUMMARY:Zwemmen
DESCRIPTION:
URL:https://onszwemuurtje.nl/event/zwemmen-202/
END:VEVENT
BEGIN:VEVENT
DTSTART;VALUE=DATE:20250712
DTEND;VALUE=DATE:20250713
DTSTAMP:20260419T232014
CREATED:20241203T194005Z
LAST-MODIFIED:20241203T194005Z
UID:864-1752278400-1752364799@onszwemuurtje.nl
SUMMARY:Zomervakantie
DESCRIPTION:
URL:https://onszwemuurtje.nl/event/zomervakantie-9/
END:VEVENT
END:VCALENDAR